BEGIN:VCALENDAR
VERSION:2.0
PRODID:-//ChamberMaster//Event Calendar 2.0//EN
METHOD:PUBLISH
X-PUBLISHED-TTL:P1H
REFRESH-INTERVAL:P1H
CALSCALE:GREGORIAN
BEGIN:VTIMEZONE
TZID:America/Chicago
BEGIN:DAYLIGHT
RRULE:FREQ=YEARLY;BYMONTH=3;BYDAY=2SU
DTSTART:20070101T000000
TZOFFSETFROM:-0600
TZOFFSETTO:-0500
TZNAME:Central Daylight Time
END:DAYLIGHT
BEGIN:STANDARD
RRULE:FREQ=YEARLY;BYMONTH=11;BYDAY=1SU
DTSTART:20070101T000000
TZOFFSETFROM:-0500
TZOFFSETTO:-0600
TZNAME:Central Standard Time
END:STANDARD
END:VTIMEZONE
BEGIN:VEVENT
DTSTART;TZID=America/Chicago:20260505T110000
DTEND;TZID=America/Chicago:20260505T130000
X-MICROSOFT-CDO-ALLDAYEVENT:FALSE
SUMMARY:Trade Show - Cinco De Mayo Luncheon
DESCRIPTION:This is our annual Affiliate Trade Show and Cinco De Mayo Luncheon. As a REALTOR member or Affiliate member\, you can register for FREE\, come network\, and enjoy lunch. If you're an Affiliate who would like a booth/table at the trade show\, don't hesitate to contact the association office for more information and registration information.Don't forget about the RPAC silent auction\, featuring two individualized baskets that will be auctioned off that day.  Winning an RPAC basket does go towards your RPAC goal.
X-ALT-DESC;FMTTYPE=text/html:<!DOCTYPE html><html><head><title></title></head><body aria-disabled="false" spellcheck="false"><p>This is our annual Affiliate Trade Show and Cinco De Mayo Luncheon. As a REALTOR member or Affiliate member\, you can register for FREE\, come network\, and enjoy lunch. If you&#39\;re an Affiliate who would like a booth/table at the trade show\, don&#39\;t hesitate to contact the association office for more information and registration information.</p><p>Don&#39\;t forget about the RPAC silent auction\, featuring two individualized baskets that will be auctioned off that day. &nbsp\;Winning an RPAC basket does go towards your RPAC goal.</p><p><br></p></body></html>
LOCATION:935 Old Humboldt Rd. Suite B Jackson TN 38305
UID:e.3709.1391454
SEQUENCE:3
DTSTAMP:20260425T035115Z
URL:https://members.westtnhomesearch.com/event-calendar/Details/trade-show-cinco-de-mayo-luncheon-1643694?sourceTypeId=Hub
END:VEVENT
END:VCALENDAR
