BEGIN:VCALENDAR
VERSION:2.0
PRODID:-//ChamberMaster//Event Calendar 2.0//EN
METHOD:PUBLISH
X-PUBLISHED-TTL:P1H
REFRESH-INTERVAL:P1H
CALSCALE:GREGORIAN
BEGIN:VTIMEZONE
TZID:America/Chicago
BEGIN:DAYLIGHT
RRULE:FREQ=YEARLY;BYMONTH=3;BYDAY=2SU
DTSTART:20070101T000000
TZOFFSETFROM:-0600
TZOFFSETTO:-0500
TZNAME:Central Daylight Time
END:DAYLIGHT
BEGIN:STANDARD
RRULE:FREQ=YEARLY;BYMONTH=11;BYDAY=1SU
DTSTART:20070101T000000
TZOFFSETFROM:-0500
TZOFFSETTO:-0600
TZNAME:Central Standard Time
END:STANDARD
END:VTIMEZONE
BEGIN:VEVENT
DTSTART;TZID=America/Chicago:20260521T113000
DTEND;TZID=America/Chicago:20260521T130000
X-MICROSOFT-CDO-ALLDAYEVENT:FALSE
SUMMARY:The Top 100 99er RPAC Luncheon
DESCRIPTION:This is our annual 99er RPAC luncheon for the top 100 REALTORS. To attend this luncheon\, all you need to do is invest or make sure you've already invested $99 in RPAC for this 2026 year. If you're unsure how much you invested when you paid your annual dues\, then contact the board office. We can help you get registered. 731-668-4907 or jessica@cwtar.com or kimberb@cwtar.com. We look forward to seeing you at this year's luncheon.\n\nWe have a guest speaker\, Mr. Hagen Stone\, giveaways\, and two silent auction items.  Not to mention a great lunch.
X-ALT-DESC;FMTTYPE=text/html:<!DOCTYPE html><html><head><title></title></head><body aria-disabled="false" spellcheck="false"><p>This is our annual 99er RPAC luncheon for the top 100 REALTORS. To attend this luncheon\, all you need to do is invest or make sure you&#39\;ve already invested $99 in RPAC for this 2026 year. If you&#39\;re unsure how much you invested when you paid your annual dues\, then contact the board office. We can help you get registered. 731-668-4907 or jessica@cwtar.com or kimberb@cwtar.com. We look forward to seeing you at this year&#39\;s luncheon.<br><br>We have a guest speaker\, Mr. Hagen Stone\, giveaways\, and two silent auction items. &nbsp\;Not to mention a great lunch.</p></body></html>
LOCATION:1364 Union University Drive Jackson TN 38305
UID:e.3709.1447003
SEQUENCE:3
DTSTAMP:20260425T035732Z
URL:https://members.westtnhomesearch.com/event-calendar/Details/the-top-100-99er-rpac-luncheon-1713810?sourceTypeId=Hub
END:VEVENT
END:VCALENDAR
